BEGIN:VCALENDAR
VERSION:2.0
PRODID:https://www.kufer.de/kuferweb / DE
METHOD:PUBLISH
CALSCALE:GREGORIAN
X-WR-TIMEZONE:Europe/Berlin
BEGIN:VTIMEZONE
TZID:Europe/Berlin
X-LIC-LOCATION:Europe/Berlin
BEGIN:DAYLIGHT
TZOFFSETFROM:+0100
TZOFFSETTO:+0200
TZNAME:CEST
DTSTART:19700329T020000
RRULE:FREQ=YEARLY;INTERVAL=1;BYDAY=-1SU;BYMONTH=3
END:DAYLIGHT
BEGIN:STANDARD
TZOFFSETFROM:+0200
TZOFFSETTO:+0100
TZNAME:CET
DTSTART:19701025T030000
RRULE:FREQ=YEARLY;INTERVAL=1;BYDAY=-1SU;BYMONTH=10
END:STANDARD
END:VTIMEZONE
BEGIN:VEVENT
DTSTAMP:20260421T124203
DTSTART;TZID=Europe/Berlin:20260303T140000
DTEND;TZID=Europe/Berlin:20260303T163000
UID:2026GB7102-20260303T140000@KVHSBARNIM
DESCRIPTION:13.04.26 (*RO): 
SUMMARY:LernTreff Bernau (2026GB7102) 
LOCATION:Grundbildungszentrum Bernau , Ladeburger Chaussee 73, 16321 Bernau
END:VEVENT
BEGIN:VEVENT
DTSTAMP:20260421T124203
DTSTART;TZID=Europe/Berlin:20260310T140000
DTEND;TZID=Europe/Berlin:20260310T163000
UID:2026GB7102-20260310T140000@KVHSBARNIM
DESCRIPTION:13.04.26 (*RO): 
SUMMARY:LernTreff Bernau (2026GB7102) 
LOCATION:Grundbildungszentrum Bernau , Ladeburger Chaussee 73, 16321 Bernau
END:VEVENT
BEGIN:VEVENT
DTSTAMP:20260421T124203
DTSTART;TZID=Europe/Berlin:20260317T140000
DTEND;TZID=Europe/Berlin:20260317T163000
UID:2026GB7102-20260317T140000@KVHSBARNIM
DESCRIPTION:13.04.26 (*RO): 
SUMMARY:LernTreff Bernau (2026GB7102) 
LOCATION:Grundbildungszentrum Bernau , Ladeburger Chaussee 73, 16321 Bernau
END:VEVENT
BEGIN:VEVENT
DTSTAMP:20260421T124203
DTSTART;TZID=Europe/Berlin:20260324T140000
DTEND;TZID=Europe/Berlin:20260324T163000
UID:2026GB7102-20260324T140000@KVHSBARNIM
DESCRIPTION:13.04.26 (*RO): 
SUMMARY:LernTreff Bernau (2026GB7102) 
LOCATION:Grundbildungszentrum Bernau , Ladeburger Chaussee 73, 16321 Bernau
END:VEVENT
BEGIN:VEVENT
DTSTAMP:20260421T124203
DTSTART;TZID=Europe/Berlin:20260331T140000
DTEND;TZID=Europe/Berlin:20260331T163000
UID:2026GB7102-20260331T140000@KVHSBARNIM
DESCRIPTION:13.04.26 (*RO): 
SUMMARY:LernTreff Bernau (2026GB7102) 
LOCATION:Grundbildungszentrum Bernau , Ladeburger Chaussee 73, 16321 Bernau
END:VEVENT
BEGIN:VEVENT
DTSTAMP:20260421T124203
DTSTART;TZID=Europe/Berlin:20260414T140000
DTEND;TZID=Europe/Berlin:20260414T163000
UID:2026GB7102-20260414T140000@KVHSBARNIM
SUMMARY:LernTreff Bernau (2026GB7102) 
LOCATION:Grundbildungszentrum Bernau , Ladeburger Chaussee 73, 16321 Bernau
END:VEVENT
BEGIN:VEVENT
DTSTAMP:20260421T124203
DTSTART;TZID=Europe/Berlin:20260421T140000
DTEND;TZID=Europe/Berlin:20260421T163000
UID:2026GB7102-20260421T140000@KVHSBARNIM
SUMMARY:LernTreff Bernau (2026GB7102) 
LOCATION:Grundbildungszentrum Bernau , Ladeburger Chaussee 73, 16321 Bernau
END:VEVENT
BEGIN:VEVENT
DTSTAMP:20260421T124203
DTSTART;TZID=Europe/Berlin:20260428T140000
DTEND;TZID=Europe/Berlin:20260428T163000
UID:2026GB7102-20260428T140000@KVHSBARNIM
SUMMARY:LernTreff Bernau (2026GB7102) 
LOCATION:Grundbildungszentrum Bernau , Ladeburger Chaussee 73, 16321 Bernau
END:VEVENT
BEGIN:VEVENT
DTSTAMP:20260421T124203
DTSTART;TZID=Europe/Berlin:20260505T140000
DTEND;TZID=Europe/Berlin:20260505T163000
UID:2026GB7102-20260505T140000@KVHSBARNIM
SUMMARY:LernTreff Bernau (2026GB7102) 
LOCATION:Grundbildungszentrum Bernau , Ladeburger Chaussee 73, 16321 Bernau
END:VEVENT
BEGIN:VEVENT
DTSTAMP:20260421T124203
DTSTART;TZID=Europe/Berlin:20260512T140000
DTEND;TZID=Europe/Berlin:20260512T163000
UID:2026GB7102-20260512T140000@KVHSBARNIM
SUMMARY:LernTreff Bernau (2026GB7102) 
LOCATION:Grundbildungszentrum Bernau , Ladeburger Chaussee 73, 16321 Bernau
END:VEVENT
BEGIN:VEVENT
DTSTAMP:20260421T124203
DTSTART;TZID=Europe/Berlin:20260519T140000
DTEND;TZID=Europe/Berlin:20260519T163000
UID:2026GB7102-20260519T140000@KVHSBARNIM
SUMMARY:LernTreff Bernau (2026GB7102) 
LOCATION:Grundbildungszentrum Bernau , Ladeburger Chaussee 73, 16321 Bernau
END:VEVENT
BEGIN:VEVENT
DTSTAMP:20260421T124203
DTSTART;TZID=Europe/Berlin:20260526T140000
DTEND;TZID=Europe/Berlin:20260526T163000
UID:2026GB7102-20260526T140000@KVHSBARNIM
SUMMARY:LernTreff Bernau (2026GB7102) 
LOCATION:Grundbildungszentrum Bernau , Ladeburger Chaussee 73, 16321 Bernau
END:VEVENT
BEGIN:VEVENT
DTSTAMP:20260421T124203
DTSTART;TZID=Europe/Berlin:20260602T140000
DTEND;TZID=Europe/Berlin:20260602T163000
UID:2026GB7102-20260602T140000@KVHSBARNIM
SUMMARY:LernTreff Bernau (2026GB7102) 
LOCATION:Grundbildungszentrum Bernau , Ladeburger Chaussee 73, 16321 Bernau
END:VEVENT
BEGIN:VEVENT
DTSTAMP:20260421T124203
DTSTART;TZID=Europe/Berlin:20260609T140000
DTEND;TZID=Europe/Berlin:20260609T163000
UID:2026GB7102-20260609T140000@KVHSBARNIM
SUMMARY:LernTreff Bernau (2026GB7102) 
LOCATION:Grundbildungszentrum Bernau , Ladeburger Chaussee 73, 16321 Bernau
END:VEVENT
BEGIN:VEVENT
DTSTAMP:20260421T124203
DTSTART;TZID=Europe/Berlin:20260616T140000
DTEND;TZID=Europe/Berlin:20260616T163000
UID:2026GB7102-20260616T140000@KVHSBARNIM
SUMMARY:LernTreff Bernau (2026GB7102) 
LOCATION:Grundbildungszentrum Bernau , Ladeburger Chaussee 73, 16321 Bernau
END:VEVENT
BEGIN:VEVENT
DTSTAMP:20260421T124203
DTSTART;TZID=Europe/Berlin:20260623T140000
DTEND;TZID=Europe/Berlin:20260623T163000
UID:2026GB7102-20260623T140000@KVHSBARNIM
SUMMARY:LernTreff Bernau (2026GB7102) 
LOCATION:Grundbildungszentrum Bernau , Ladeburger Chaussee 73, 16321 Bernau
END:VEVENT
BEGIN:VEVENT
DTSTAMP:20260421T124203
DTSTART;TZID=Europe/Berlin:20260630T140000
DTEND;TZID=Europe/Berlin:20260630T163000
UID:2026GB7102-20260630T140000@KVHSBARNIM
SUMMARY:LernTreff Bernau (2026GB7102) 
LOCATION:Grundbildungszentrum Bernau , Ladeburger Chaussee 73, 16321 Bernau
END:VEVENT
BEGIN:VEVENT
DTSTAMP:20260421T124203
DTSTART;TZID=Europe/Berlin:20260707T140000
DTEND;TZID=Europe/Berlin:20260707T163000
UID:2026GB7102-20260707T140000@KVHSBARNIM
SUMMARY:LernTreff Bernau (2026GB7102) 
LOCATION:Grundbildungszentrum Bernau , Ladeburger Chaussee 73, 16321 Bernau
END:VEVENT
BEGIN:VEVENT
DTSTAMP:20260421T124203
DTSTART;TZID=Europe/Berlin:20260714T140000
DTEND;TZID=Europe/Berlin:20260714T163000
UID:2026GB7102-20260714T140000@KVHSBARNIM
SUMMARY:LernTreff Bernau (2026GB7102) 
LOCATION:Grundbildungszentrum Bernau , Ladeburger Chaussee 73, 16321 Bernau
END:VEVENT
BEGIN:VEVENT
DTSTAMP:20260421T124203
DTSTART;TZID=Europe/Berlin:20260721T140000
DTEND;TZID=Europe/Berlin:20260721T163000
UID:2026GB7102-20260721T140000@KVHSBARNIM
SUMMARY:LernTreff Bernau (2026GB7102) 
LOCATION:Grundbildungszentrum Bernau , Ladeburger Chaussee 73, 16321 Bernau
END:VEVENT
BEGIN:VEVENT
DTSTAMP:20260421T124203
DTSTART;TZID=Europe/Berlin:20260728T140000
DTEND;TZID=Europe/Berlin:20260728T163000
UID:2026GB7102-20260728T140000@KVHSBARNIM
SUMMARY:LernTreff Bernau (2026GB7102) 
LOCATION:Grundbildungszentrum Bernau , Ladeburger Chaussee 73, 16321 Bernau
END:VEVENT
BEGIN:VEVENT
DTSTAMP:20260421T124203
DTSTART;TZID=Europe/Berlin:20260825T140000
DTEND;TZID=Europe/Berlin:20260825T163000
UID:2026GB7102-20260825T140000@KVHSBARNIM
SUMMARY:LernTreff Bernau (2026GB7102) 
LOCATION:Grundbildungszentrum Bernau , Ladeburger Chaussee 73, 16321 Bernau
END:VEVENT
BEGIN:VEVENT
DTSTAMP:20260421T124203
DTSTART;TZID=Europe/Berlin:20260901T140000
DTEND;TZID=Europe/Berlin:20260901T163000
UID:2026GB7102-20260901T140000@KVHSBARNIM
SUMMARY:LernTreff Bernau (2026GB7102) 
LOCATION:Grundbildungszentrum Bernau , Ladeburger Chaussee 73, 16321 Bernau
END:VEVENT
BEGIN:VEVENT
DTSTAMP:20260421T124203
DTSTART;TZID=Europe/Berlin:20260908T140000
DTEND;TZID=Europe/Berlin:20260908T163000
UID:2026GB7102-20260908T140000@KVHSBARNIM
SUMMARY:LernTreff Bernau (2026GB7102) 
LOCATION:Grundbildungszentrum Bernau , Ladeburger Chaussee 73, 16321 Bernau
END:VEVENT
BEGIN:VEVENT
DTSTAMP:20260421T124203
DTSTART;TZID=Europe/Berlin:20260915T140000
DTEND;TZID=Europe/Berlin:20260915T163000
UID:2026GB7102-20260915T140000@KVHSBARNIM
SUMMARY:LernTreff Bernau (2026GB7102) 
LOCATION:Grundbildungszentrum Bernau , Ladeburger Chaussee 73, 16321 Bernau
END:VEVENT
BEGIN:VEVENT
DTSTAMP:20260421T124203
DTSTART;TZID=Europe/Berlin:20260922T140000
DTEND;TZID=Europe/Berlin:20260922T163000
UID:2026GB7102-20260922T140000@KVHSBARNIM
SUMMARY:LernTreff Bernau (2026GB7102) 
LOCATION:Grundbildungszentrum Bernau , Ladeburger Chaussee 73, 16321 Bernau
END:VEVENT
BEGIN:VEVENT
DTSTAMP:20260421T124203
DTSTART;TZID=Europe/Berlin:20260929T140000
DTEND;TZID=Europe/Berlin:20260929T163000
UID:2026GB7102-20260929T140000@KVHSBARNIM
SUMMARY:LernTreff Bernau (2026GB7102) 
LOCATION:Grundbildungszentrum Bernau , Ladeburger Chaussee 73, 16321 Bernau
END:VEVENT
BEGIN:VEVENT
DTSTAMP:20260421T124203
DTSTART;TZID=Europe/Berlin:20261006T140000
DTEND;TZID=Europe/Berlin:20261006T163000
UID:2026GB7102-20261006T140000@KVHSBARNIM
SUMMARY:LernTreff Bernau (2026GB7102) 
LOCATION:Grundbildungszentrum Bernau , Ladeburger Chaussee 73, 16321 Bernau
END:VEVENT
BEGIN:VEVENT
DTSTAMP:20260421T124203
DTSTART;TZID=Europe/Berlin:20261013T140000
DTEND;TZID=Europe/Berlin:20261013T163000
UID:2026GB7102-20261013T140000@KVHSBARNIM
SUMMARY:LernTreff Bernau (2026GB7102) 
LOCATION:Grundbildungszentrum Bernau , Ladeburger Chaussee 73, 16321 Bernau
END:VEVENT
BEGIN:VEVENT
DTSTAMP:20260421T124203
DTSTART;TZID=Europe/Berlin:20261020T140000
DTEND;TZID=Europe/Berlin:20261020T163000
UID:2026GB7102-20261020T140000@KVHSBARNIM
SUMMARY:LernTreff Bernau (2026GB7102) 
LOCATION:Grundbildungszentrum Bernau , Ladeburger Chaussee 73, 16321 Bernau
END:VEVENT
BEGIN:VEVENT
DTSTAMP:20260421T124203
DTSTART;TZID=Europe/Berlin:20261027T140000
DTEND;TZID=Europe/Berlin:20261027T163000
UID:2026GB7102-20261027T140000@KVHSBARNIM
SUMMARY:LernTreff Bernau (2026GB7102) 
LOCATION:Grundbildungszentrum Bernau , Ladeburger Chaussee 73, 16321 Bernau
END:VEVENT
BEGIN:VEVENT
DTSTAMP:20260421T124203
DTSTART;TZID=Europe/Berlin:20261103T140000
DTEND;TZID=Europe/Berlin:20261103T163000
UID:2026GB7102-20261103T140000@KVHSBARNIM
SUMMARY:LernTreff Bernau (2026GB7102) 
LOCATION:Grundbildungszentrum Bernau , Ladeburger Chaussee 73, 16321 Bernau
END:VEVENT
BEGIN:VEVENT
DTSTAMP:20260421T124203
DTSTART;TZID=Europe/Berlin:20261110T140000
DTEND;TZID=Europe/Berlin:20261110T163000
UID:2026GB7102-20261110T140000@KVHSBARNIM
SUMMARY:LernTreff Bernau (2026GB7102) 
LOCATION:Grundbildungszentrum Bernau , Ladeburger Chaussee 73, 16321 Bernau
END:VEVENT
BEGIN:VEVENT
DTSTAMP:20260421T124203
DTSTART;TZID=Europe/Berlin:20261117T140000
DTEND;TZID=Europe/Berlin:20261117T163000
UID:2026GB7102-20261117T140000@KVHSBARNIM
SUMMARY:LernTreff Bernau (2026GB7102) 
LOCATION:Grundbildungszentrum Bernau , Ladeburger Chaussee 73, 16321 Bernau
END:VEVENT
BEGIN:VEVENT
DTSTAMP:20260421T124203
DTSTART;TZID=Europe/Berlin:20261124T140000
DTEND;TZID=Europe/Berlin:20261124T163000
UID:2026GB7102-20261124T140000@KVHSBARNIM
SUMMARY:LernTreff Bernau (2026GB7102) 
LOCATION:Grundbildungszentrum Bernau , Ladeburger Chaussee 73, 16321 Bernau
END:VEVENT
BEGIN:VEVENT
DTSTAMP:20260421T124203
DTSTART;TZID=Europe/Berlin:20261201T140000
DTEND;TZID=Europe/Berlin:20261201T163000
UID:2026GB7102-20261201T140000@KVHSBARNIM
SUMMARY:LernTreff Bernau (2026GB7102) 
LOCATION:Grundbildungszentrum Bernau , Ladeburger Chaussee 73, 16321 Bernau
END:VEVENT
BEGIN:VEVENT
DTSTAMP:20260421T124203
DTSTART;TZID=Europe/Berlin:20261208T140000
DTEND;TZID=Europe/Berlin:20261208T163000
UID:2026GB7102-20261208T140000@KVHSBARNIM
SUMMARY:LernTreff Bernau (2026GB7102) 
LOCATION:Grundbildungszentrum Bernau , Ladeburger Chaussee 73, 16321 Bernau
END:VEVENT
END:VCALENDAR