BEGIN:VCALENDAR
VERSION:2.0
PRODID:https://www.kufer.de/kuferweb / DE
METHOD:PUBLISH
CALSCALE:GREGORIAN
X-WR-TIMEZONE:Europe/Berlin
BEGIN:VTIMEZONE
TZID:Europe/Berlin
X-LIC-LOCATION:Europe/Berlin
BEGIN:DAYLIGHT
TZOFFSETFROM:+0100
TZOFFSETTO:+0200
TZNAME:CEST
DTSTART:19700329T020000
RRULE:FREQ=YEARLY;INTERVAL=1;BYDAY=-1SU;BYMONTH=3
END:DAYLIGHT
BEGIN:STANDARD
TZOFFSETFROM:+0200
TZOFFSETTO:+0100
TZNAME:CET
DTSTART:19701025T030000
RRULE:FREQ=YEARLY;INTERVAL=1;BYDAY=-1SU;BYMONTH=10
END:STANDARD
END:VTIMEZONE
BEGIN:VEVENT
DTSTAMP:20260423T030900
DTSTART;TZID=Europe/Berlin:20260622T100000
DTEND;TZID=Europe/Berlin:20260622T170000
UID:2526B5610-20260622T100000@KVHSBARNIM
SUMMARY:Selbstbewusst und authentisch - Überzeugend auftreten (2526B5610) 
LOCATION:Bürgerhaus Jahnstraße, Raum 307, Jahnstraße 45, 16321 Bernau bei Berlin 
END:VEVENT
BEGIN:VEVENT
DTSTAMP:20260423T030900
DTSTART;TZID=Europe/Berlin:20260623T100000
DTEND;TZID=Europe/Berlin:20260623T170000
UID:2526B5610-20260623T100000@KVHSBARNIM
SUMMARY:Selbstbewusst und authentisch - Überzeugend auftreten (2526B5610) 
LOCATION:Bürgerhaus Jahnstraße, Raum 307, Jahnstraße 45, 16321 Bernau bei Berlin 
END:VEVENT
BEGIN:VEVENT
DTSTAMP:20260423T030900
DTSTART;TZID=Europe/Berlin:20260624T100000
DTEND;TZID=Europe/Berlin:20260624T170000
UID:2526B5610-20260624T100000@KVHSBARNIM
SUMMARY:Selbstbewusst und authentisch - Überzeugend auftreten (2526B5610) 
LOCATION:Bürgerhaus Jahnstraße, Raum 307, Jahnstraße 45, 16321 Bernau bei Berlin 
END:VEVENT
END:VCALENDAR