BEGIN:VCALENDAR
VERSION:2.0
PRODID:https://www.kufer.de/kuferweb / DE
METHOD:PUBLISH
CALSCALE:GREGORIAN
X-WR-TIMEZONE:Europe/Berlin
BEGIN:VTIMEZONE
TZID:Europe/Berlin
X-LIC-LOCATION:Europe/Berlin
BEGIN:DAYLIGHT
TZOFFSETFROM:+0100
TZOFFSETTO:+0200
TZNAME:CEST
DTSTART:19700329T020000
RRULE:FREQ=YEARLY;INTERVAL=1;BYDAY=-1SU;BYMONTH=3
END:DAYLIGHT
BEGIN:STANDARD
TZOFFSETFROM:+0200
TZOFFSETTO:+0100
TZNAME:CET
DTSTART:19701025T030000
RRULE:FREQ=YEARLY;INTERVAL=1;BYDAY=-1SU;BYMONTH=10
END:STANDARD
END:VTIMEZONE
BEGIN:VEVENT
DTSTAMP:20260420T030643
DTSTART;TZID=Europe/Berlin:20260720T123000
DTEND;TZID=Europe/Berlin:20260720T173000
UID:2526E4912-20260720T123000@KVHSBARNIM
SUMMARY:Italienisch Folgekurs A1.1 (Bildungszeit) (2526E4912) 
LOCATION:Regionalstelle Eberswalde - Haus B, Raum B 0.19, Fritz-Weineck-Str. 36, 16227 Eberswalde
END:VEVENT
BEGIN:VEVENT
DTSTAMP:20260420T030643
DTSTART;TZID=Europe/Berlin:20260721T123000
DTEND;TZID=Europe/Berlin:20260721T173000
UID:2526E4912-20260721T123000@KVHSBARNIM
SUMMARY:Italienisch Folgekurs A1.1 (Bildungszeit) (2526E4912) 
LOCATION:Regionalstelle Eberswalde - Haus B, Raum B 0.19, Fritz-Weineck-Str. 36, 16227 Eberswalde
END:VEVENT
BEGIN:VEVENT
DTSTAMP:20260420T030643
DTSTART;TZID=Europe/Berlin:20260722T123000
DTEND;TZID=Europe/Berlin:20260722T173000
UID:2526E4912-20260722T123000@KVHSBARNIM
SUMMARY:Italienisch Folgekurs A1.1 (Bildungszeit) (2526E4912) 
LOCATION:Regionalstelle Eberswalde - Haus B, Raum B 0.19, Fritz-Weineck-Str. 36, 16227 Eberswalde
END:VEVENT
BEGIN:VEVENT
DTSTAMP:20260420T030643
DTSTART;TZID=Europe/Berlin:20260723T123000
DTEND;TZID=Europe/Berlin:20260723T173000
UID:2526E4912-20260723T123000@KVHSBARNIM
SUMMARY:Italienisch Folgekurs A1.1 (Bildungszeit) (2526E4912) 
LOCATION:Regionalstelle Eberswalde - Haus B, Raum B 0.19, Fritz-Weineck-Str. 36, 16227 Eberswalde
END:VEVENT
END:VCALENDAR