BEGIN:VCALENDAR
VERSION:2.0
PRODID:https://www.kufer.de/kuferweb / DE
METHOD:PUBLISH
CALSCALE:GREGORIAN
X-WR-TIMEZONE:Europe/Berlin
BEGIN:VTIMEZONE
TZID:Europe/Berlin
X-LIC-LOCATION:Europe/Berlin
BEGIN:DAYLIGHT
TZOFFSETFROM:+0100
TZOFFSETTO:+0200
TZNAME:CEST
DTSTART:19700329T020000
RRULE:FREQ=YEARLY;INTERVAL=1;BYDAY=-1SU;BYMONTH=3
END:DAYLIGHT
BEGIN:STANDARD
TZOFFSETFROM:+0200
TZOFFSETTO:+0100
TZNAME:CET
DTSTART:19701025T030000
RRULE:FREQ=YEARLY;INTERVAL=1;BYDAY=-1SU;BYMONTH=10
END:STANDARD
END:VTIMEZONE
BEGIN:VEVENT
DTSTAMP:20260422T125214
DTSTART;TZID=Europe/Berlin:20261026T090000
DTEND;TZID=Europe/Berlin:20261026T161500
UID:2627B3000-20261026T090000@KVHSBARNIM
SUMMARY:Gesundheit und Achtsamkeit im Beruf durch Ernährung und Selbstfürsorge (2627B3000) 
LOCATION:Schule im Nibelungenviertel, Raum 105, Schönfelder Weg 40, 16321 Bernau bei Berlin
END:VEVENT
BEGIN:VEVENT
DTSTAMP:20260422T125214
DTSTART;TZID=Europe/Berlin:20261027T090000
DTEND;TZID=Europe/Berlin:20261027T161500
UID:2627B3000-20261027T090000@KVHSBARNIM
SUMMARY:Gesundheit und Achtsamkeit im Beruf durch Ernährung und Selbstfürsorge (2627B3000) 
LOCATION:Schule im Nibelungenviertel, Raum 105, Schönfelder Weg 40, 16321 Bernau bei Berlin
END:VEVENT
BEGIN:VEVENT
DTSTAMP:20260422T125214
DTSTART;TZID=Europe/Berlin:20261028T090000
DTEND;TZID=Europe/Berlin:20261028T161500
UID:2627B3000-20261028T090000@KVHSBARNIM
SUMMARY:Gesundheit und Achtsamkeit im Beruf durch Ernährung und Selbstfürsorge (2627B3000) 
LOCATION:Schule im Nibelungenviertel, Raum 105, Schönfelder Weg 40, 16321 Bernau bei Berlin
END:VEVENT
BEGIN:VEVENT
DTSTAMP:20260422T125214
DTSTART;TZID=Europe/Berlin:20261029T090000
DTEND;TZID=Europe/Berlin:20261029T161500
UID:2627B3000-20261029T090000@KVHSBARNIM
SUMMARY:Gesundheit und Achtsamkeit im Beruf durch Ernährung und Selbstfürsorge (2627B3000) 
LOCATION:Schule im Nibelungenviertel, Raum 105, Schönfelder Weg 40, 16321 Bernau bei Berlin
END:VEVENT
BEGIN:VEVENT
DTSTAMP:20260422T125214
DTSTART;TZID=Europe/Berlin:20261030T090000
DTEND;TZID=Europe/Berlin:20261030T161500
UID:2627B3000-20261030T090000@KVHSBARNIM
SUMMARY:Gesundheit und Achtsamkeit im Beruf durch Ernährung und Selbstfürsorge (2627B3000) 
LOCATION:Schule im Nibelungenviertel, Raum 105, Schönfelder Weg 40, 16321 Bernau bei Berlin
END:VEVENT
END:VCALENDAR