BEGIN:VCALENDAR
VERSION:2.0
PRODID:https://www.kufer.de/kuferweb / DE
METHOD:PUBLISH
CALSCALE:GREGORIAN
X-WR-TIMEZONE:Europe/Berlin
BEGIN:VTIMEZONE
TZID:Europe/Berlin
X-LIC-LOCATION:Europe/Berlin
BEGIN:DAYLIGHT
TZOFFSETFROM:+0100
TZOFFSETTO:+0200
TZNAME:CEST
DTSTART:19700329T020000
RRULE:FREQ=YEARLY;INTERVAL=1;BYDAY=-1SU;BYMONTH=3
END:DAYLIGHT
BEGIN:STANDARD
TZOFFSETFROM:+0200
TZOFFSETTO:+0100
TZNAME:CET
DTSTART:19701025T030000
RRULE:FREQ=YEARLY;INTERVAL=1;BYDAY=-1SU;BYMONTH=10
END:STANDARD
END:VTIMEZONE
BEGIN:VEVENT
DTSTAMP:20260422T173633
DTSTART;TZID=Europe/Berlin:20270319T090000
DTEND;TZID=Europe/Berlin:20270319T160000
UID:2627B3132-20270319T090000@KVHSBARNIM
SUMMARY:YOGA I zur Stressprävention im beruflichen Alltag (Schwerpunkt Körper und Ernährung) (2627B3132) 
LOCATION:Yogaraum Tanja Gentsch, Louis-Braille-Str. 1, 16321 Bernau
END:VEVENT
BEGIN:VEVENT
DTSTAMP:20260422T173633
DTSTART;TZID=Europe/Berlin:20270322T090000
DTEND;TZID=Europe/Berlin:20270322T160000
UID:2627B3132-20270322T090000@KVHSBARNIM
SUMMARY:YOGA I zur Stressprävention im beruflichen Alltag (Schwerpunkt Körper und Ernährung) (2627B3132) 
LOCATION:Yogaraum Tanja Gentsch, Louis-Braille-Str. 1, 16321 Bernau
END:VEVENT
BEGIN:VEVENT
DTSTAMP:20260422T173633
DTSTART;TZID=Europe/Berlin:20270323T090000
DTEND;TZID=Europe/Berlin:20270323T160000
UID:2627B3132-20270323T090000@KVHSBARNIM
SUMMARY:YOGA I zur Stressprävention im beruflichen Alltag (Schwerpunkt Körper und Ernährung) (2627B3132) 
LOCATION:Yogaraum Tanja Gentsch, Louis-Braille-Str. 1, 16321 Bernau
END:VEVENT
BEGIN:VEVENT
DTSTAMP:20260422T173633
DTSTART;TZID=Europe/Berlin:20270324T090000
DTEND;TZID=Europe/Berlin:20270324T160000
UID:2627B3132-20270324T090000@KVHSBARNIM
SUMMARY:YOGA I zur Stressprävention im beruflichen Alltag (Schwerpunkt Körper und Ernährung) (2627B3132) 
LOCATION:Yogaraum Tanja Gentsch, Louis-Braille-Str. 1, 16321 Bernau
END:VEVENT
BEGIN:VEVENT
DTSTAMP:20260422T173633
DTSTART;TZID=Europe/Berlin:20270325T090000
DTEND;TZID=Europe/Berlin:20270325T160000
UID:2627B3132-20270325T090000@KVHSBARNIM
SUMMARY:YOGA I zur Stressprävention im beruflichen Alltag (Schwerpunkt Körper und Ernährung) (2627B3132) 
LOCATION:Yogaraum Tanja Gentsch, Louis-Braille-Str. 1, 16321 Bernau
END:VEVENT
END:VCALENDAR