BEGIN:VCALENDAR
VERSION:2.0
PRODID:https://www.kufer.de/kuferweb / DE
METHOD:PUBLISH
CALSCALE:GREGORIAN
X-WR-TIMEZONE:Europe/Berlin
BEGIN:VTIMEZONE
TZID:Europe/Berlin
X-LIC-LOCATION:Europe/Berlin
BEGIN:DAYLIGHT
TZOFFSETFROM:+0100
TZOFFSETTO:+0200
TZNAME:CEST
DTSTART:19700329T020000
RRULE:FREQ=YEARLY;INTERVAL=1;BYDAY=-1SU;BYMONTH=3
END:DAYLIGHT
BEGIN:STANDARD
TZOFFSETFROM:+0200
TZOFFSETTO:+0100
TZNAME:CET
DTSTART:19701025T030000
RRULE:FREQ=YEARLY;INTERVAL=1;BYDAY=-1SU;BYMONTH=10
END:STANDARD
END:VTIMEZONE
BEGIN:VEVENT
DTSTAMP:20260422T233352
DTSTART;TZID=Europe/Berlin:20270705T090000
DTEND;TZID=Europe/Berlin:20270705T160000
UID:2627B3133-20270705T090000@KVHSBARNIM
SUMMARY:YOGA II zur Stressprävention im beruflichen Alltag (Schwerpunkt Körper und Geist) (2627B3133) 
LOCATION:Gemeinschaftshaus Birkholzaue, Alte Bernauer Landstraße 3A, 16321 Bernau bei Berlin OT Birkholzaue
END:VEVENT
BEGIN:VEVENT
DTSTAMP:20260422T233352
DTSTART;TZID=Europe/Berlin:20270706T090000
DTEND;TZID=Europe/Berlin:20270706T160000
UID:2627B3133-20270706T090000@KVHSBARNIM
SUMMARY:YOGA II zur Stressprävention im beruflichen Alltag (Schwerpunkt Körper und Geist) (2627B3133) 
LOCATION:Gemeinschaftshaus Birkholzaue, Alte Bernauer Landstraße 3A, 16321 Bernau bei Berlin OT Birkholzaue
END:VEVENT
BEGIN:VEVENT
DTSTAMP:20260422T233352
DTSTART;TZID=Europe/Berlin:20270707T090000
DTEND;TZID=Europe/Berlin:20270707T160000
UID:2627B3133-20270707T090000@KVHSBARNIM
SUMMARY:YOGA II zur Stressprävention im beruflichen Alltag (Schwerpunkt Körper und Geist) (2627B3133) 
LOCATION:Gemeinschaftshaus Birkholzaue, Alte Bernauer Landstraße 3A, 16321 Bernau bei Berlin OT Birkholzaue
END:VEVENT
BEGIN:VEVENT
DTSTAMP:20260422T233352
DTSTART;TZID=Europe/Berlin:20270708T090000
DTEND;TZID=Europe/Berlin:20270708T160000
UID:2627B3133-20270708T090000@KVHSBARNIM
SUMMARY:YOGA II zur Stressprävention im beruflichen Alltag (Schwerpunkt Körper und Geist) (2627B3133) 
LOCATION:Gemeinschaftshaus Birkholzaue, Alte Bernauer Landstraße 3A, 16321 Bernau bei Berlin OT Birkholzaue
END:VEVENT
BEGIN:VEVENT
DTSTAMP:20260422T233352
DTSTART;TZID=Europe/Berlin:20270709T090000
DTEND;TZID=Europe/Berlin:20270709T160000
UID:2627B3133-20270709T090000@KVHSBARNIM
SUMMARY:YOGA II zur Stressprävention im beruflichen Alltag (Schwerpunkt Körper und Geist) (2627B3133) 
LOCATION:Gemeinschaftshaus Birkholzaue, Alte Bernauer Landstraße 3A, 16321 Bernau bei Berlin OT Birkholzaue
END:VEVENT
END:VCALENDAR