BEGIN:VCALENDAR
VERSION:2.0
PRODID:https://www.kufer.de/kuferweb / DE
METHOD:PUBLISH
CALSCALE:GREGORIAN
X-WR-TIMEZONE:Europe/Berlin
BEGIN:VTIMEZONE
TZID:Europe/Berlin
X-LIC-LOCATION:Europe/Berlin
BEGIN:DAYLIGHT
TZOFFSETFROM:+0100
TZOFFSETTO:+0200
TZNAME:CEST
DTSTART:19700329T020000
RRULE:FREQ=YEARLY;INTERVAL=1;BYDAY=-1SU;BYMONTH=3
END:DAYLIGHT
BEGIN:STANDARD
TZOFFSETFROM:+0200
TZOFFSETTO:+0100
TZNAME:CET
DTSTART:19701025T030000
RRULE:FREQ=YEARLY;INTERVAL=1;BYDAY=-1SU;BYMONTH=10
END:STANDARD
END:VTIMEZONE
BEGIN:VEVENT
DTSTAMP:20260420T081337
DTSTART;TZID=Europe/Berlin:20261005T090000
DTEND;TZID=Europe/Berlin:20261005T140000
UID:2627E4611-20261005T090000@KVHSBARNIM
SUMMARY:Englisch Anfängerkurs A1.1 (Bildungszeit) (2627E4611) 
LOCATION:Regionalstelle Eberswalde - Haus B, Raum B 0.11, Fritz-Weineck-Str. 36, 16227 Eberswalde
END:VEVENT
BEGIN:VEVENT
DTSTAMP:20260420T081337
DTSTART;TZID=Europe/Berlin:20261006T090000
DTEND;TZID=Europe/Berlin:20261006T140000
UID:2627E4611-20261006T090000@KVHSBARNIM
SUMMARY:Englisch Anfängerkurs A1.1 (Bildungszeit) (2627E4611) 
LOCATION:Regionalstelle Eberswalde - Haus B, Raum B 0.11, Fritz-Weineck-Str. 36, 16227 Eberswalde
END:VEVENT
BEGIN:VEVENT
DTSTAMP:20260420T081337
DTSTART;TZID=Europe/Berlin:20261007T090000
DTEND;TZID=Europe/Berlin:20261007T140000
UID:2627E4611-20261007T090000@KVHSBARNIM
SUMMARY:Englisch Anfängerkurs A1.1 (Bildungszeit) (2627E4611) 
LOCATION:Regionalstelle Eberswalde - Haus B, Raum B 0.11, Fritz-Weineck-Str. 36, 16227 Eberswalde
END:VEVENT
BEGIN:VEVENT
DTSTAMP:20260420T081337
DTSTART;TZID=Europe/Berlin:20261008T090000
DTEND;TZID=Europe/Berlin:20261008T140000
UID:2627E4611-20261008T090000@KVHSBARNIM
SUMMARY:Englisch Anfängerkurs A1.1 (Bildungszeit) (2627E4611) 
LOCATION:Regionalstelle Eberswalde - Haus B, Raum B 0.11, Fritz-Weineck-Str. 36, 16227 Eberswalde
END:VEVENT
BEGIN:VEVENT
DTSTAMP:20260420T081337
DTSTART;TZID=Europe/Berlin:20261009T090000
DTEND;TZID=Europe/Berlin:20261009T140000
UID:2627E4611-20261009T090000@KVHSBARNIM
SUMMARY:Englisch Anfängerkurs A1.1 (Bildungszeit) (2627E4611) 
LOCATION:Regionalstelle Eberswalde - Haus B, Raum B 0.11, Fritz-Weineck-Str. 36, 16227 Eberswalde
END:VEVENT
END:VCALENDAR